BEGIN:VCALENDAR
VERSION:2.0
PRODID:-//ISIS Institut Köln - ECPv6.0.8//NONSGML v1.0//EN
CALSCALE:GREGORIAN
METHOD:PUBLISH
X-WR-CALNAME:ISIS Institut Köln
X-ORIGINAL-URL:https://elvani.de
X-WR-CALDESC:Veranstaltungen für ISIS Institut Köln
REFRESH-INTERVAL;VALUE=DURATION:PT1H
X-Robots-Tag:noindex
X-PUBLISHED-TTL:PT1H
BEGIN:VTIMEZONE
TZID:Europe/Berlin
BEGIN:DAYLIGHT
TZOFFSETFROM:+0100
TZOFFSETTO:+0200
TZNAME:CEST
DTSTART:20240331T010000
END:DAYLIGHT
BEGIN:STANDARD
TZOFFSETFROM:+0200
TZOFFSETTO:+0100
TZNAME:CET
DTSTART:20241027T010000
END:STANDARD
END:VTIMEZONE
BEGIN:VEVENT
DTSTART;VALUE=DATE:20240102
DTEND;VALUE=DATE:20240103
DTSTAMP:20260421T112036
CREATED:20220915T230614Z
LAST-MODIFIED:20220918T172551Z
UID:10000070-1704153600-1704239999@elvani.de
SUMMARY:OWW-001 Systemische Methoden der Eltern- und Familienberatung
DESCRIPTION:Systemische Methoden der Eltern- und Familienberatung\n\n\nStörungsbilder bei Kindern und Jugendlichen ebenso wie herausforderndes Verhalten oder Disziplinschwierigkeiten lassen sich nicht allein unter einem individuumszentrierten Blick betrachten. Das\, was in Schule oder soziale Institutionen von den Kindern und Jugendlichen als Beiträge in die Interaktion mit z.B. LehrerInnen\, ErzieherInnen\, SozialpädagogInnen eingebracht wird\, sind Muster\, die in der familialen Interaktion gelernt wurden. \nDiese in der Familie eingeübten Kommunikationsformen (selbst Gewalt oder Autoaggression gehören dazu) machen dort Sinn und sind als gemeinsame Konstruktionen der Familienmitglieder anzusehen. In einem anderen Kontext gezeigt\, werden die Verhaltensweisen unter Umständen als störend und dysfunktional angesehen. \nAus systemischer Sicht ist es nicht sehr zielführend\, allein mit den Kindern und Jugendlichen an möglichen Verhaltensmodifikationen zu arbeiten. Oft bringt sie dies in einen inneren Loyalitätskonflikt und sie wissen nicht genau\, wie sie diesen lösen sollen. In der Regel gilt aber die oberste Loyalität immer dem Familiensystem\, nicht aber der Schule\, der Kita\, der sozialen/pädagogischen Institution. \nWill man nachhaltig etwas an dem „störenden“ Verhalten ändern\, so ist es notwendig\, die Eltern in diesen Prozess miteinzubeziehen. \nDas Wochenendseminar bietet einen Einblick in: \n\nFamiliendynamische Aspekte von Verhaltensproblemen\nUmgang mit Loyalitätsproblemen\nEinladung an die Eltern zur Kooperation\nUtilisation der Werte und Normen des Elternhauses\nSystemische Gesprächstechniken für das Elterngespräch\nBeratungsstrategien im Familienkontext\n\nInformationen zum Seminar: \n\nUmfang: Wochenendseminar\nFreitags: 15.30 -20.30\nSamstags: 09.00- 17.00\nOrt: ISIS Institut\, Theodor-Heuss-Ring 52\, 50668 Köln\nKosten: 300€ pro Seminar\nGruppengröße: 12 bis 18 Teilnehmenden\nZertifikat: Die Teilnehmerinnen und Teilnehmer erhalten eine Teilnahmebescheinigung.\nNachtrag: Diese Veranstaltung gilt als ein Modul in der Ausbildung „Systemische Beratung.
URL:https://elvani.de/veranstaltung/oww-001-systemische-methoden-der-eltern-und-familienberatung/
LOCATION:ISIS Institut Köln\, Theodor-Heuss-Ring 52\, Köln\, 50668\, Deutschland
CATEGORIES:Einmalige Wochenendseminare
END:VEVENT
BEGIN:VEVENT
DTSTART;VALUE=DATE:20240102
DTEND;VALUE=DATE:20240103
DTSTAMP:20260421T112036
CREATED:20220915T230713Z
LAST-MODIFIED:20220918T172511Z
UID:10000071-1704153600-1704239999@elvani.de
SUMMARY:OWW-003 Methoden buddhistischer Meditation für die Beratung
DESCRIPTION:Methoden buddhistischer Achtsamkeitspraxis und Meditation für die Beratung\n\n\nSystemische Psychotherapie\, systemische Beratung und systemisch konstruktivistische Theorie haben verschiedene Wurzeln.\nDie bedeutendste Wurzel ist das die buddhistische „Wissenschaft des Geistes“ und Achtsamkeitspraxis.\nSeit dem 5. Jahrhundert vor unserer Zeitrechnung begeben sich Meditierende in eine Innenschau\, um herauszufinden\, wie unser Geist funktioniert\, wie Emotionen gesteuert werden\, wie Glück und Zufriedenheit erreicht werden können.\nInteressanterweise bestätigen die heutigen Erkenntnisse der Neurowissenschaften das\, was durch Introspektion in jahrhundertelanger Achtsamkeitspraxis entwickelt wurde.\nMan kann sogar sagen\, dass die Grundlagen der Psychotherapie auf diesen phänomenologischen Erkenntnissen begründet ist – ohne dass es so benannt wird. \nUmberto Maturana und Francesco Varela\, zwei Biologen die wesentliches zur systemischen Theoriefindung (Autopoiesekonzept) beigetragen haben waren in den gemeinsamen „Mind und Life“ Konferenzen mit dem Dalai Lama engagiert und haben mit dem Buch „Der Baum der Erkenntnis“ die Systemtheorie zur buddhistischen Wissenschaft des Geistes in Verbindung gebracht. \nIn dem Wochenendworkshop werden folgende Themen behandelt: \n– Einführung Ansätze der buddhistischen Wissenschaft des Geistes\n– Die Verbindung von Systemtheorie\, Psychotherapie und buddhistischer Achtsamkeitspraxis\n– Einführung in die Grundlagen der buddhistischen Meditation\n– Der Umgang mit sog. negativen Gefühlen\n– Die innere Ausrichtung auf das Heilsame\n– Der Aufbau von Selbstmitgefühl und Mitgefühl\n– Die Haltung der Achtsamkeit in der systemischen Beratung \nUmfang: Wochenendseminar\nFreitags: 15.30 -20.30\nSamstags: 09.00- 17.00\nOrt: ISIS Institut\nTheodor-Heuss-Ring 52\n50668 Köln\nKosten: 300€ pro Seminar\nTeilnehmerInnen: Min. 12 TeilnehmerInnen\nZertifikat: Die Teilnehmerinnen und Teilnehmer erhalten eine Teilnahmebescheinigung.\nDie Veranstaltung gilt als ein Modul in der Ausbildung „Systemische Beratung“
URL:https://elvani.de/veranstaltung/oww-003-methoden-buddhistischer-meditation-fuer-die-beratung/
LOCATION:ISIS Institut Köln\, Theodor-Heuss-Ring 52\, Köln\, 50668\, Deutschland
CATEGORIES:Einmalige Wochenendseminare
END:VEVENT
BEGIN:VEVENT
DTSTART;VALUE=DATE:20240102
DTEND;VALUE=DATE:20240103
DTSTAMP:20260421T112036
CREATED:20220915T231419Z
LAST-MODIFIED:20220919T121813Z
UID:10000072-1704153600-1704239999@elvani.de
SUMMARY:OWW-005 Systemische Frühpädagogik
DESCRIPTION:Systemische Frühpädagogik\n\n\nVeränderungen in den Arbeits- und Lebenswelten vieler junger Familien haben die Früherziehung in Kitas und anderen Betreuungsangeboten in einen verstärkten Fokus gerückt.\nAuch die heutigen Neurowissenschaften verweisen darauf\, wie wichtig gerade die ersten Lebensjahre für die kognitive\, emotionale und soziale Entwicklung sind. Bindungsverhalten wird verstärkt und gerade eine sichere Bindung bei Kindern scheint mit der Hirnentwicklung im Zusammenhang zu stehen.\nAuch aus den Ansätzen und Ergebnissen der Polyvagaltheorie von S. Porges kann man sehr gut ableiten\, wie sich ein sicherer Kontakt zu Bezugspersonen auf die Entwicklung von Kindern auswirkt.\nGuter und sicherer Kontakt ist allerdings kein mechanistisches Tun\, sondern ist Ausdruck einer inneren Haltung der Erziehungspersonen\, die für sich eine Form von Sicherheit brauchen (entwickeln können)\, die sie als Beziehungsangebot an Kinder herantragen.\nGerade verunsicherte Kinder\, die den morgendlichen Abschied von den Eltern nicht gut verarbeiten\, brauchen eine spezielle Form der Unterstützung.\nDer systemische Blick hat dabei auch die Eltern- Kind-Interaktion und ihre Auswirkung auf die Beziehungsgestaltung zu den ErzieherInnen und Betreuungspersonen im Blick. \nDie systemische Pädagogik arbeitet im Wesentlichen an dem Aufbau einer achtsamen\, ressourcevollen und kompetenten inneren Haltung bei ErzieherInnen\, PädagogInnen und Betreuungspersonen. Aus dieser Haltung heraus können Interaktionsmethoden gegenüber Kindern und Eltern entwickelt werden\, die in eine sichere Bindung einladen.\nAuch die Einbindung der Eltern (Elterngespräche) stellt einen zentralen Aspekt der Frühpädagogik dar – die systemische Pädagogik hat hier viele Antworten. \nInhalte der Weiterbildung: \n\nEntwicklungspychologische Aspekte im Bereich der Frühpädagogik aus systemischer Sicht\nAufbau von Sicherheit in der Beziehung\nNonverbale Methoden als Sicherheitsanker für (verunsicherte) Kinder\nAchtsamkeitsfokussierende Methoden\nSystemische Aspekte der Familiendynamik\nSystemischer Umgang mit Konflikten\nLösungsorientierte Ansätze der Gesprächsführung\n\nInformationen zum Seminar: \n\nUmfang: Wochenendseminar\nFreitags: 15.30 -20.30\nSamstags: 09.00- 17.00\nOrt: ISIS Institut\, Theodor-Heuss-Ring 52\, 50668 Köln\nKosten: 300€ pro Seminar\nGruppengröße: 12 bis 18 Teilnehmenden\nZertifikat: Die Teilnehmerinnen und Teilnehmer erhalten eine Teilnahmebescheinigung.\nNachtrag: Diese Veranstaltung gilt als ein Modul in der Ausbildung „Systemische Beratung.
URL:https://elvani.de/veranstaltung/oww-005-systemische-fruehpaedagogik/
LOCATION:ISIS Institut Köln\, Theodor-Heuss-Ring 52\, Köln\, 50668\, Deutschland
CATEGORIES:Einmalige Wochenendseminare
END:VEVENT
END:VCALENDAR